BEGIN:VCALENDAR
VERSION:2.0
PRODID:-//Jessie At Home - ECPv6.15.20//NONSGML v1.0//EN
CALSCALE:GREGORIAN
METHOD:PUBLISH
X-WR-CALNAME:Jessie At Home
X-ORIGINAL-URL:https://www.jessieathome.com
X-WR-CALDESC:Events for Jessie At Home
REFRESH-INTERVAL;VALUE=DURATION:PT1H
X-Robots-Tag:noindex
X-PUBLISHED-TTL:PT1H
BEGIN:VTIMEZONE
TZID:America/New_York
BEGIN:DAYLIGHT
TZOFFSETFROM:-0500
TZOFFSETTO:-0400
TZNAME:EDT
DTSTART:20250309T070000
END:DAYLIGHT
BEGIN:STANDARD
TZOFFSETFROM:-0400
TZOFFSETTO:-0500
TZNAME:EST
DTSTART:20251102T060000
END:STANDARD
BEGIN:DAYLIGHT
TZOFFSETFROM:-0500
TZOFFSETTO:-0400
TZNAME:EDT
DTSTART:20260308T070000
END:DAYLIGHT
BEGIN:STANDARD
TZOFFSETFROM:-0400
TZOFFSETTO:-0500
TZNAME:EST
DTSTART:20261101T060000
END:STANDARD
BEGIN:DAYLIGHT
TZOFFSETFROM:-0500
TZOFFSETTO:-0400
TZNAME:EDT
DTSTART:20270314T070000
END:DAYLIGHT
BEGIN:STANDARD
TZOFFSETFROM:-0400
TZOFFSETTO:-0500
TZNAME:EST
DTSTART:20271107T060000
END:STANDARD
END:VTIMEZONE
BEGIN:VEVENT
DTSTART;TZID=America/New_York:20260325T120000
DTEND;TZID=America/New_York:20260325T130000
DTSTAMP:20260421T215402
CREATED:20251115T221646Z
LAST-MODIFIED:20260227T014554Z
UID:57500-1774440000-1774443600@www.jessieathome.com
SUMMARY:Lunch with Jessie
DESCRIPTION:Every Wednesday at 12:00 (noon) Eastern Time we have a live Lunch with Jessie that streams on the Jessie At Home YouTube channel. We sometimes have guests\, and we sometimes have coupon codes or giveaways from sponsors or guests. Replays can be found in our Lunch with Jessie playlist on YouTube. \n 
URL:https://www.jessieathome.com/event/lunch-with-jessie-3-25-2026/
LOCATION:Jessie At Home YouTube\, United States
CATEGORIES:Livestream
END:VEVENT
BEGIN:VEVENT
DTSTART;TZID=America/New_York:20260325T130000
DTEND;TZID=America/New_York:20260325T150000
DTSTAMP:20260421T215402
CREATED:20251115T231140Z
LAST-MODIFIED:20251201T160455Z
UID:57566-1774443600-1774450800@www.jessieathome.com
SUMMARY:Afternoon Live Virtual Sit & Stitch with Jessie
DESCRIPTION:On the fourth Wednesday of each month we have a live Sit & Stitch on Zoom from 1-3 pm Eastern Time. This event is free and open to all; you are welcome to come and go as you please. \nRegister HERE. <- You will get the join link here if the meeting has already started.
URL:https://www.jessieathome.com/event/afternoon-sit-stitch-3-25-2026/
LOCATION:Jessie At Home’s Zoom\, United States
CATEGORIES:Zoom Meeting
END:VEVENT
END:VCALENDAR