BEGIN:VCALENDAR
VERSION:2.0
PRODID:-//Jessie At Home - ECPv6.15.20//NONSGML v1.0//EN
CALSCALE:GREGORIAN
METHOD:PUBLISH
X-ORIGINAL-URL:https://www.jessieathome.com
X-WR-CALDESC:Events for Jessie At Home
REFRESH-INTERVAL;VALUE=DURATION:PT1H
X-Robots-Tag:noindex
X-PUBLISHED-TTL:PT1H
BEGIN:VTIMEZONE
TZID:America/New_York
BEGIN:DAYLIGHT
TZOFFSETFROM:-0500
TZOFFSETTO:-0400
TZNAME:EDT
DTSTART:20250309T070000
END:DAYLIGHT
BEGIN:STANDARD
TZOFFSETFROM:-0400
TZOFFSETTO:-0500
TZNAME:EST
DTSTART:20251102T060000
END:STANDARD
BEGIN:DAYLIGHT
TZOFFSETFROM:-0500
TZOFFSETTO:-0400
TZNAME:EDT
DTSTART:20260308T070000
END:DAYLIGHT
BEGIN:STANDARD
TZOFFSETFROM:-0400
TZOFFSETTO:-0500
TZNAME:EST
DTSTART:20261101T060000
END:STANDARD
BEGIN:DAYLIGHT
TZOFFSETFROM:-0500
TZOFFSETTO:-0400
TZNAME:EDT
DTSTART:20270314T070000
END:DAYLIGHT
BEGIN:STANDARD
TZOFFSETFROM:-0400
TZOFFSETTO:-0500
TZNAME:EST
DTSTART:20271107T060000
END:STANDARD
END:VTIMEZONE
BEGIN:VEVENT
DTSTART;TZID=America/New_York:20260511T160000
DTEND;TZID=America/New_York:20260511T200000
DTSTAMP:20260421T163304
CREATED:20260307T153340Z
LAST-MODIFIED:20260307T153340Z
UID:58197-1778515200-1778529600@www.jessieathome.com
SUMMARY:In Person Sit & Stitch
DESCRIPTION:Grab your yarn\, thread or any fiber art project and drop-in to craft in a welcoming space. \nJessie hosts this 4 hour open Sit & Stitch on the first (or sometimes second) Monday of each month from 4-8pm. Come and go as you please. You can learn a new fiber art\, get help with a current one\, or just enjoy some fiber fun with good people.
URL:https://www.jessieathome.com/event/in-person-sit-stitch-5-11-26/
LOCATION:Edge NJ\, 35 Waterview Boulevard\, Suite 201\, Parsippany\, NJ\, 07054\, United States
CATEGORIES:Edge NJ,In Person Event
END:VEVENT
BEGIN:VEVENT
DTSTART;TZID=America/New_York:20260513T120000
DTEND;TZID=America/New_York:20260513T130000
DTSTAMP:20260421T163304
CREATED:20260227T023820Z
LAST-MODIFIED:20260227T023820Z
UID:58179-1778673600-1778677200@www.jessieathome.com
SUMMARY:Lunch with Jessie
DESCRIPTION:Every Wednesday at 12:00 (noon) Eastern Time we have a live Lunch with Jessie that streams on the Jessie At Home YouTube channel. We sometimes have guests\, and we sometimes have coupon codes or giveaways from sponsors or guests. Replays can be found in our Lunch with Jessie playlist on YouTube. \n 
URL:https://www.jessieathome.com/event/lunch-with-jessie-5-13-26/
LOCATION:Jessie At Home YouTube\, United States
CATEGORIES:Livestream
END:VEVENT
BEGIN:VEVENT
DTSTART;TZID=America/New_York:20260513T140000
DTEND;TZID=America/New_York:20260513T160000
DTSTAMP:20260421T163304
CREATED:20260227T020658Z
LAST-MODIFIED:20260227T020658Z
UID:58172-1778680800-1778688000@www.jessieathome.com
SUMMARY:Afternoon Live Virtual Sit & Stitch with Jessie
DESCRIPTION:On the second Wednesday of each month we have a live Sit & Stitch on Zoom from 2-4 pm Eastern Time. This event is free and open to all; you are welcome to come and go as you please. \nRegister HERE. <- You will get the join link here if the meeting has already started.
URL:https://www.jessieathome.com/event/afternoon-sit-stitch-5-13-2026/
LOCATION:Jessie At Home’s Zoom\, United States
CATEGORIES:Zoom Meeting
END:VEVENT
BEGIN:VEVENT
DTSTART;TZID=America/New_York:20260518T180000
DTEND;TZID=America/New_York:20260518T200000
DTSTAMP:20260421T163304
CREATED:20260307T154056Z
LAST-MODIFIED:20260307T154056Z
UID:58200-1779127200-1779134400@www.jessieathome.com
SUMMARY:Crafting with Community!
DESCRIPTION:Join Jessie and learn a fun craft. No experience needed. Craft to be determined.
URL:https://www.jessieathome.com/event/crafting-with-community-5-18-26/
LOCATION:Edge NJ\, 35 Waterview Boulevard\, Suite 201\, Parsippany\, NJ\, 07054\, United States
END:VEVENT
BEGIN:VEVENT
DTSTART;TZID=America/New_York:20260520T120000
DTEND;TZID=America/New_York:20260520T130000
DTSTAMP:20260421T163304
CREATED:20260227T023713Z
LAST-MODIFIED:20260227T023936Z
UID:58178-1779278400-1779282000@www.jessieathome.com
SUMMARY:Lunch with Jessie
DESCRIPTION:Every Wednesday at 12:00 (noon) Eastern Time we have a live Lunch with Jessie that streams on the Jessie At Home YouTube channel. We sometimes have guests\, and we sometimes have coupon codes or giveaways from sponsors or guests. Replays can be found in our Lunch with Jessie playlist on YouTube. \n 
URL:https://www.jessieathome.com/event/lunch-with-jessie-5-20-26/
LOCATION:Jessie At Home YouTube\, United States
CATEGORIES:Livestream
END:VEVENT
BEGIN:VEVENT
DTSTART;TZID=America/New_York:20260520T180000
DTEND;TZID=America/New_York:20260520T200000
DTSTAMP:20260421T163304
CREATED:20260227T020907Z
LAST-MODIFIED:20260227T020907Z
UID:58174-1779300000-1779307200@www.jessieathome.com
SUMMARY:Evening Live Virtual Sit & Stitch with Jessie
DESCRIPTION:On the third Wednesday of each month we have a live Sit & Stitch on Zoom from 6-8 pm Eastern Time. This event is free and open to all; you are welcome to come and go as you please. \nRegister HERE. <- You will get the join link here if the meeting has already started.
URL:https://www.jessieathome.com/event/evening-sit-stitch-5-20-2026/
LOCATION:Jessie At Home’s Zoom\, United States
CATEGORIES:Zoom Meeting
END:VEVENT
BEGIN:VEVENT
DTSTART;TZID=America/New_York:20260527T120000
DTEND;TZID=America/New_York:20260527T130000
DTSTAMP:20260421T163304
CREATED:20260227T024056Z
LAST-MODIFIED:20260227T024056Z
UID:58180-1779883200-1779886800@www.jessieathome.com
SUMMARY:Lunch with Jessie
DESCRIPTION:Every Wednesday at 12:00 (noon) Eastern Time we have a live Lunch with Jessie that streams on the Jessie At Home YouTube channel. We sometimes have guests\, and we sometimes have coupon codes or giveaways from sponsors or guests. Replays can be found in our Lunch with Jessie playlist on YouTube. \n 
URL:https://www.jessieathome.com/event/lunch-with-jessie-5-27-26/
LOCATION:Jessie At Home YouTube\, United States
CATEGORIES:Livestream
END:VEVENT
BEGIN:VEVENT
DTSTART;TZID=America/New_York:20260527T130000
DTEND;TZID=America/New_York:20260527T150000
DTSTAMP:20260421T163304
CREATED:20260227T021001Z
LAST-MODIFIED:20260227T021001Z
UID:58175-1779886800-1779894000@www.jessieathome.com
SUMMARY:Afternoon Live Virtual Sit & Stitch with Jessie
DESCRIPTION:On the fourth Wednesday of each month we have a live Sit & Stitch on Zoom from 1-3 pm Eastern Time. This event is free and open to all; you are welcome to come and go as you please. \nRegister HERE. <- You will get the join link here if the meeting has already started.
URL:https://www.jessieathome.com/event/evening-sit-stitch-5-27-2026/
LOCATION:Jessie At Home’s Zoom\, United States
CATEGORIES:Zoom Meeting
END:VEVENT
END:VCALENDAR